Package: iBBiG Version: 1.55.0 Command: /Library/Frameworks/R.framework/Resources/bin/R CMD build --keep-empty-dirs --no-resave-data iBBiG StartedAt: 2025-11-20 16:40:00 -0500 (Thu, 20 Nov 2025) EndedAt: 2025-11-20 16:40:16 -0500 (Thu, 20 Nov 2025) EllapsedTime: 16.2 seconds RetCode: 0 Status: OK PackageFile: iBBiG_1.55.0.tar.gz PackageFileSize: 909.6 KiB