Package: iBBiG Version: 1.55.0 Command: rm -rf iBBiG.buildbin-libdir && mkdir iBBiG.buildbin-libdir && /Users/biocbuild/BBS/utils/build-universal.sh iBBiG_1.55.0.tar.gz /Library/Frameworks/R.framework/Resources/bin/R iBBiG.buildbin-libdir StartedAt: 2025-11-20 23:37:14 -0500 (Thu, 20 Nov 2025) EndedAt: 2025-11-20 23:37:20 -0500 (Thu, 20 Nov 2025) EllapsedTime: 6.2 seconds RetCode: 0 Status: OK PackageFile: iBBiG_1.55.0.tgz PackageFileSize: 1.09 MiB