Package: iASeq Version: 1.55.0 Command: /home/biocbuild/bbs-3.23-bioc/R/bin/R CMD INSTALL iASeq StartedAt: 2025-11-03 15:01:59 -0500 (Mon, 03 Nov 2025) EndedAt: 2025-11-03 15:02:05 -0500 (Mon, 03 Nov 2025) EllapsedTime: 6.6 seconds RetCode: 0 Status: OK