Package: iASeq Version: 1.55.0 Command: /home/biocbuild/bbs-3.23-bioc/R/bin/R CMD build --keep-empty-dirs --no-resave-data iASeq StartedAt: 2025-11-03 18:02:13 -0500 (Mon, 03 Nov 2025) EndedAt: 2025-11-03 18:02:20 -0500 (Mon, 03 Nov 2025) EllapsedTime: 7.0 seconds RetCode: 0 Status: OK PackageFile: iASeq_1.55.0.tar.gz PackageFileSize: 205.7 KiB