Package: iASeq Version: 1.53.0 Command: /Library/Frameworks/R.framework/Resources/bin/R CMD INSTALL iASeq StartedAt: 2025-10-12 15:05:24 -0400 (Sun, 12 Oct 2025) EndedAt: 2025-10-12 15:05:38 -0400 (Sun, 12 Oct 2025) EllapsedTime: 13.4 seconds RetCode: 0 Status: OK