Package: iASeq Version: 1.53.0 Command: /Library/Frameworks/R.framework/Resources/bin/R CMD build --keep-empty-dirs --no-resave-data iASeq StartedAt: 2025-10-12 17:31:43 -0400 (Sun, 12 Oct 2025) EndedAt: 2025-10-12 17:32:04 -0400 (Sun, 12 Oct 2025) EllapsedTime: 20.6 seconds RetCode: 0 Status: OK PackageFile: iASeq_1.53.0.tar.gz PackageFileSize: 205.2 KiB