Package: iASeq Version: 1.53.0 Command: rm -rf iASeq.buildbin-libdir && mkdir iASeq.buildbin-libdir && /Users/biocbuild/BBS/utils/build-universal.sh iASeq_1.53.0.tar.gz /Library/Frameworks/R.framework/Resources/bin/R iASeq.buildbin-libdir StartedAt: 2025-10-13 02:37:57 -0400 (Mon, 13 Oct 2025) EndedAt: 2025-10-13 02:38:04 -0400 (Mon, 13 Oct 2025) EllapsedTime: 7.0 seconds RetCode: 0 Status: OK PackageFile: iASeq_1.53.0.tgz PackageFileSize: 253.9 KiB