Package: hypergraph Version: 1.83.0 Command: /home/biocbuild/bbs-3.23-bioc/R/bin/R CMD INSTALL hypergraph StartedAt: 2025-10-30 15:12:41 -0400 (Thu, 30 Oct 2025) EndedAt: 2025-10-30 15:12:45 -0400 (Thu, 30 Oct 2025) EllapsedTime: 3.9 seconds RetCode: 0 Status: OK