Package: hypergraph Version: 1.83.0 Command: /home/biocbuild/bbs-3.23-bioc/R/bin/R CMD check --install=check:hypergraph.install-out.txt --library=/home/biocbuild/bbs-3.23-bioc/R/site-library --timings hypergraph_1.83.0.tar.gz StartedAt: 2025-11-01 00:16:16 -0400 (Sat, 01 Nov 2025) EndedAt: 2025-11-01 00:16:41 -0400 (Sat, 01 Nov 2025) EllapsedTime: 25.0 seconds RetCode: 0 Status: OK CheckDir: hypergraph.Rcheck Warnings: 0