Back to Build/check report for BioC 3.23:   simplified   long
ABCDEFG[H]IJKLMNOPQRSTUVWXYZ

This page was generated on 2025-10-31 08:34 -0400 (Fri, 31 Oct 2025).

HostnameOSArch (*)R versionInstalled pkgs
nebbiolo1Linux (Ubuntu 24.04.3 LTS)x86_64R Under development (unstable) (2025-10-20 r88955) -- "Unsuffered Consequences" 4428
Click on any hostname to see more info about the system (e.g. compilers)      (*) as reported by 'uname -p', except on Windows and Mac OS X

All results for package hypergraph


To the developers/maintainers of the hypergraph package:
- Allow up to 24 hours (and sometimes 48 hours) for your latest push to git@git.bioconductor.org:packages/hypergraph.git to reflect on this report. See Troubleshooting Build Report for more information.
- Use the following Renviron settings to reproduce errors and warnings.
- If 'R CMD check' started to fail recently on the Linux builder(s) over a missing dependency, add the missing dependency to 'Suggests:' in your DESCRIPTION file. See Renviron.bioc for more information.

raw results

Package 1001/2321HostnameOS / ArchINSTALLBUILDCHECKBUILD BIN
hypergraph 1.83.0  (landing page)
Bioconductor Package Maintainer
Snapshot Date: 2025-10-30 13:40 -0400 (Thu, 30 Oct 2025)
git_url: https://git.bioconductor.org/packages/hypergraph
git_branch: devel
git_last_commit: febfb63
git_last_commit_date: 2025-10-29 09:56:34 -0400 (Wed, 29 Oct 2025)
nebbiolo1Linux (Ubuntu 24.04.3 LTS) / x86_64  OK    OK    OK  YES



Results for Bioconductor software packages that depend directly on package hypergraph

QUICK STATSOS / ArchINSTALLBUILDCHECKBUILD BIN
nebbiolo1Linux (Ubuntu 24.04.3 LTS) / x86_64
002
011
0001
Package 1/2HostnameOS / ArchINSTALLBUILDCHECKBUILD BIN
altcdfenvs 2.73.0  (landing page)
Laurent Gautier
git_last_commit: 2798b4f
git_last_commit_date: 2025-10-29 09:54:38 -0400
nebbiolo1Linux (Ubuntu 24.04.3 LTS) / x86_64  OK    ERROR  skipped
Package 2/2HostnameOS / ArchINSTALLBUILDCHECKBUILD BIN
hyperdraw 1.63.0  (landing page)
Paul Murrell
git_last_commit: 5f06f53
git_last_commit_date: 2025-10-29 10:04:13 -0400
nebbiolo1Linux (Ubuntu 24.04.3 LTS) / x86_64  OK    OK    OK  YES