Package: hyperdraw Version: 1.63.0 Command: /home/biocbuild/bbs-3.23-bioc/R/bin/R CMD INSTALL hyperdraw StartedAt: 2025-10-31 15:22:54 -0400 (Fri, 31 Oct 2025) EndedAt: 2025-10-31 15:22:58 -0400 (Fri, 31 Oct 2025) EllapsedTime: 4.5 seconds RetCode: 0 Status: OK