Package: hyperdraw Version: 1.63.0 Command: /home/biocbuild/bbs-3.23-bioc/R/bin/R CMD check --install=check:hyperdraw.install-out.txt --library=/home/biocbuild/bbs-3.23-bioc/R/site-library --timings hyperdraw_1.63.0.tar.gz StartedAt: 2025-11-01 00:16:12 -0400 (Sat, 01 Nov 2025) EndedAt: 2025-11-01 00:16:45 -0400 (Sat, 01 Nov 2025) EllapsedTime: 33.1 seconds RetCode: 0 Status: OK CheckDir: hyperdraw.Rcheck Warnings: 0