Package: hypeR Version: 2.7.1 Command: /home/biocbuild/bbs-3.23-bioc/R/bin/R CMD build --keep-empty-dirs --no-resave-data hypeR StartedAt: 2025-10-22 23:17:27 -0000 (Wed, 22 Oct 2025) EndedAt: 2025-10-22 23:17:29 -0000 (Wed, 22 Oct 2025) EllapsedTime: 2.0 seconds RetCode: 1 Status: ERROR PackageFile: None PackageFileSize: NA