Package: hummingbird Version: 1.19.0 Command: /home/biocbuild/bbs-3.22-bioc/R/bin/R CMD INSTALL hummingbird StartedAt: 2025-10-03 15:17:37 -0400 (Fri, 03 Oct 2025) EndedAt: 2025-10-03 15:18:01 -0400 (Fri, 03 Oct 2025) EllapsedTime: 24.2 seconds RetCode: 0 Status: OK