Package: hummingbird Version: 1.19.0 Command: /home/biocbuild/bbs-3.22-bioc/R/bin/R CMD build --keep-empty-dirs --no-resave-data --md5 hummingbird StartedAt: 2025-10-05 18:11:21 -0400 (Sun, 05 Oct 2025) EndedAt: 2025-10-05 18:11:55 -0400 (Sun, 05 Oct 2025) EllapsedTime: 34.0 seconds RetCode: 0 Status: OK PackageFile: hummingbird_1.19.0.tar.gz PackageFileSize: 471.7 KiB