Package: hpar Version: 1.53.0 Command: /home/biocbuild/bbs-3.23-bioc/R/bin/R CMD INSTALL hpar StartedAt: 2025-11-20 15:27:05 -0500 (Thu, 20 Nov 2025) EndedAt: 2025-11-20 15:27:19 -0500 (Thu, 20 Nov 2025) EllapsedTime: 14.1 seconds RetCode: 0 Status: OK