Package: hpar Version: 1.53.0 Command: /home/biocbuild/bbs-3.23-bioc/R/bin/R CMD build --keep-empty-dirs --no-resave-data hpar StartedAt: 2025-11-20 18:07:41 -0500 (Thu, 20 Nov 2025) EndedAt: 2025-11-20 18:08:16 -0500 (Thu, 20 Nov 2025) EllapsedTime: 35.0 seconds RetCode: 0 Status: OK PackageFile: hpar_1.53.0.tar.gz PackageFileSize: 885.3 KiB