Package: hpar Version: 1.53.0 Command: /Library/Frameworks/R.framework/Resources/bin/R CMD INSTALL hpar StartedAt: 2025-11-20 15:28:36 -0500 (Thu, 20 Nov 2025) EndedAt: 2025-11-20 15:28:56 -0500 (Thu, 20 Nov 2025) EllapsedTime: 19.9 seconds RetCode: 0 Status: OK