Package: hpar Version: 1.53.0 Command: /Library/Frameworks/R.framework/Resources/bin/R CMD build --keep-empty-dirs --no-resave-data hpar StartedAt: 2025-11-20 17:22:03 -0500 (Thu, 20 Nov 2025) EndedAt: 2025-11-20 17:22:50 -0500 (Thu, 20 Nov 2025) EllapsedTime: 47.0 seconds RetCode: 0 Status: OK PackageFile: hpar_1.53.0.tar.gz PackageFileSize: 885.2 KiB