Package: hpar Version: 1.53.0 Command: rm -rf hpar.buildbin-libdir && mkdir hpar.buildbin-libdir && /Users/biocbuild/BBS/utils/build-universal.sh hpar_1.53.0.tar.gz /Library/Frameworks/R.framework/Resources/bin/R hpar.buildbin-libdir StartedAt: 2025-11-21 01:38:22 -0500 (Fri, 21 Nov 2025) EndedAt: 2025-11-21 01:38:45 -0500 (Fri, 21 Nov 2025) EllapsedTime: 23.2 seconds RetCode: 0 Status: OK PackageFile: hpar_1.53.0.tgz PackageFileSize: 638.4 KiB