Package: hpar Version: 1.51.0 Command: /Library/Frameworks/R.framework/Resources/bin/R CMD build --keep-empty-dirs --no-resave-data hpar StartedAt: 2025-10-20 16:41:51 -0400 (Mon, 20 Oct 2025) EndedAt: 2025-10-20 16:42:06 -0400 (Mon, 20 Oct 2025) EllapsedTime: 15.2 seconds RetCode: 0 Status: OK PackageFile: hpar_1.51.0.tar.gz PackageFileSize: 885.3 KiB