Package: hopach Version: 2.71.0 Command: /home/biocbuild/bbs-3.23-bioc/R/bin/R CMD INSTALL hopach StartedAt: 2025-11-23 15:14:57 -0500 (Sun, 23 Nov 2025) EndedAt: 2025-11-23 15:15:03 -0500 (Sun, 23 Nov 2025) EllapsedTime: 6.0 seconds RetCode: 0 Status: OK