Package: hopach Version: 2.71.0 Command: /home/biocbuild/bbs-3.23-bioc/R/bin/R CMD build --keep-empty-dirs --no-resave-data hopach StartedAt: 2025-11-23 18:08:13 -0500 (Sun, 23 Nov 2025) EndedAt: 2025-11-23 18:08:37 -0500 (Sun, 23 Nov 2025) EllapsedTime: 24.0 seconds RetCode: 0 Status: OK PackageFile: hopach_2.71.0.tar.gz PackageFileSize: 1.293 MiB