Package: hopach Version: 2.71.0 Command: /Library/Frameworks/R.framework/Resources/bin/R CMD INSTALL hopach StartedAt: 2025-11-27 15:19:07 -0500 (Thu, 27 Nov 2025) EndedAt: 2025-11-27 15:19:24 -0500 (Thu, 27 Nov 2025) EllapsedTime: 17.1 seconds RetCode: 0 Status: OK