Package: hopach Version: 2.71.0 Command: /Library/Frameworks/R.framework/Resources/bin/R CMD build --keep-empty-dirs --no-resave-data hopach StartedAt: 2025-11-27 17:19:31 -0500 (Thu, 27 Nov 2025) EndedAt: 2025-11-27 17:20:04 -0500 (Thu, 27 Nov 2025) EllapsedTime: 33.1 seconds RetCode: 0 Status: OK PackageFile: hopach_2.71.0.tar.gz PackageFileSize: 1.292 MiB