Package: hopach Version: 2.71.0 Command: /Library/Frameworks/R.framework/Resources/bin/R CMD INSTALL hopach StartedAt: 2025-11-20 15:07:45 -0500 (Thu, 20 Nov 2025) EndedAt: 2025-11-20 15:07:48 -0500 (Thu, 20 Nov 2025) EllapsedTime: 2.9 seconds RetCode: 0 Status: OK