Package: hoodscanR Version: 1.9.0 Command: /Library/Frameworks/R.framework/Resources/bin/R CMD build --keep-empty-dirs --no-resave-data hoodscanR StartedAt: 2025-11-20 16:39:15 -0500 (Thu, 20 Nov 2025) EndedAt: 2025-11-20 16:39:38 -0500 (Thu, 20 Nov 2025) EllapsedTime: 23.3 seconds RetCode: 0 Status: OK PackageFile: hoodscanR_1.9.0.tar.gz PackageFileSize: 3.063 MiB