Package: hoodscanR Version: 1.9.0 Command: rm -rf hoodscanR.buildbin-libdir && mkdir hoodscanR.buildbin-libdir && /Users/biocbuild/BBS/utils/build-universal.sh hoodscanR_1.9.0.tar.gz /Library/Frameworks/R.framework/Resources/bin/R hoodscanR.buildbin-libdir StartedAt: 2025-11-20 23:37:05 -0500 (Thu, 20 Nov 2025) EndedAt: 2025-11-20 23:37:21 -0500 (Thu, 20 Nov 2025) EllapsedTime: 16.5 seconds RetCode: 0 Status: OK PackageFile: hoodscanR_1.9.0.tgz PackageFileSize: 3.154 MiB