Package: hmdbQuery Version: 1.29.0 Command: /home/biocbuild/R/R/bin/R CMD INSTALL hmdbQuery StartedAt: 2025-10-06 20:24:19 -0000 (Mon, 06 Oct 2025) EndedAt: 2025-10-06 20:24:30 -0000 (Mon, 06 Oct 2025) EllapsedTime: 10.9 seconds RetCode: 0 Status: OK