Package: hmdbQuery Version: 1.29.0 Command: /home/biocbuild/R/R/bin/R CMD build --keep-empty-dirs --no-resave-data hmdbQuery StartedAt: 2025-10-07 00:22:19 -0000 (Tue, 07 Oct 2025) EndedAt: 2025-10-07 00:22:56 -0000 (Tue, 07 Oct 2025) EllapsedTime: 37.0 seconds RetCode: 0 Status: OK PackageFile: hmdbQuery_1.29.0.tar.gz PackageFileSize: 776.3 KiB