Package: hmdbQuery Version: 1.29.0 Command: rm -rf hmdbQuery.buildbin-libdir && mkdir hmdbQuery.buildbin-libdir && F:\biocbuild\bbs-3.22-bioc\R\bin\R.exe CMD INSTALL --build --library=hmdbQuery.buildbin-libdir hmdbQuery_1.29.0.tar.gz StartedAt: 2025-08-15 10:28:44 -0400 (Fri, 15 Aug 2025) EndedAt: 2025-08-15 10:29:11 -0400 (Fri, 15 Aug 2025) EllapsedTime: 26.8 seconds RetCode: 0 Status: OK PackageFile: hmdbQuery_1.29.0.zip PackageFileSize: 892 KiB