Package: hmdbQuery Version: 1.29.0 Command: /home/biocbuild/bbs-3.22-bioc/R/bin/R CMD check --install=check:hmdbQuery.install-out.txt --library=/home/biocbuild/bbs-3.22-bioc/R/site-library --timings hmdbQuery_1.29.0.tar.gz StartedAt: 2025-09-30 00:58:14 -0400 (Tue, 30 Sep 2025) EndedAt: 2025-09-30 00:59:20 -0400 (Tue, 30 Sep 2025) EllapsedTime: 66.1 seconds RetCode: 1 Status: ERROR CheckDir: hmdbQuery.Rcheck Warnings: NA