Package: hipathia Version: 3.9.0 Command: /home/biocbuild/bbs-3.22-bioc/R/bin/R CMD build --keep-empty-dirs --no-resave-data --md5 hipathia StartedAt: 2025-10-05 18:09:45 -0400 (Sun, 05 Oct 2025) EndedAt: 2025-10-05 18:11:19 -0400 (Sun, 05 Oct 2025) EllapsedTime: 94.1 seconds RetCode: 1 Status: ERROR PackageFile: None PackageFileSize: NA