Package: hipathia Version: 3.9.0 Command: /Library/Frameworks/R.framework/Resources/bin/R CMD INSTALL hipathia StartedAt: 2025-10-12 15:19:52 -0400 (Sun, 12 Oct 2025) EndedAt: 2025-10-12 15:20:07 -0400 (Sun, 12 Oct 2025) EllapsedTime: 15.4 seconds RetCode: 0 Status: OK