Package: hipathia Version: 3.9.0 Command: /Library/Frameworks/R.framework/Resources/bin/R CMD build --keep-empty-dirs --no-resave-data hipathia StartedAt: 2025-10-12 16:39:55 -0400 (Sun, 12 Oct 2025) EndedAt: 2025-10-12 16:40:38 -0400 (Sun, 12 Oct 2025) EllapsedTime: 43.5 seconds RetCode: 1 Status: ERROR PackageFile: None PackageFileSize: NA