Package: hipathia Version: 3.9.0 Command: rm -rf hipathia.buildbin-libdir && mkdir hipathia.buildbin-libdir && /Users/biocbuild/BBS/utils/build-universal.sh hipathia_3.9.0.tar.gz /Library/Frameworks/R.framework/Resources/bin/R hipathia.buildbin-libdir StartedAt: 2025-07-27 22:28:42 -0400 (Sun, 27 Jul 2025) EndedAt: 2025-07-27 22:28:58 -0400 (Sun, 27 Jul 2025) EllapsedTime: 16.4 seconds RetCode: 0 Status: OK PackageFile: hipathia_3.9.0.tgz PackageFileSize: 7.656 MiB