Package: hierinf Version: 1.27.0 Command: /home/biocbuild/R/R/bin/R CMD INSTALL hierinf StartedAt: 2025-10-20 20:14:25 -0000 (Mon, 20 Oct 2025) EndedAt: 2025-10-20 20:15:28 -0000 (Mon, 20 Oct 2025) EllapsedTime: 62.5 seconds RetCode: 0 Status: OK