Package: hierinf Version: 1.27.0 Command: /home/biocbuild/R/R/bin/R CMD build --keep-empty-dirs --no-resave-data hierinf StartedAt: 2025-10-21 00:29:16 -0000 (Tue, 21 Oct 2025) EndedAt: 2025-10-21 00:31:42 -0000 (Tue, 21 Oct 2025) EllapsedTime: 146.1 seconds RetCode: 0 Status: OK PackageFile: hierinf_1.27.0.tar.gz PackageFileSize: 422 KiB