Package: hierinf Version: 1.27.0 Command: F:\biocbuild\bbs-3.22-bioc\R\bin\R.exe CMD INSTALL hierinf StartedAt: 2025-08-14 15:23:39 -0400 (Thu, 14 Aug 2025) EndedAt: 2025-08-14 15:24:19 -0400 (Thu, 14 Aug 2025) EllapsedTime: 40.1 seconds RetCode: 0 Status: OK