Package: hierinf Version: 1.27.0 Command: chmod a+r hierinf -R && F:\biocbuild\bbs-3.22-bioc\R\bin\R.exe CMD build --keep-empty-dirs --no-resave-data hierinf StartedAt: 2025-08-14 20:47:43 -0400 (Thu, 14 Aug 2025) EndedAt: 2025-08-14 20:49:24 -0400 (Thu, 14 Aug 2025) EllapsedTime: 101.3 seconds RetCode: 0 Status: OK PackageFile: hierinf_1.27.0.tar.gz PackageFileSize: 428.7 KiB