Package: hierinf Version: 1.27.0 Command: rm -rf hierinf.buildbin-libdir && mkdir hierinf.buildbin-libdir && F:\biocbuild\bbs-3.22-bioc\R\bin\R.exe CMD INSTALL --build --library=hierinf.buildbin-libdir hierinf_1.27.0.tar.gz StartedAt: 2025-08-15 10:28:22 -0400 (Fri, 15 Aug 2025) EndedAt: 2025-08-15 10:28:32 -0400 (Fri, 15 Aug 2025) EllapsedTime: 10.2 seconds RetCode: 0 Status: OK PackageFile: hierinf_1.27.0.zip PackageFileSize: 500.5 KiB