Package: hierinf Version: 1.29.0 Command: /home/biocbuild/bbs-3.23-bioc/R/bin/R CMD INSTALL hierinf StartedAt: 2025-11-20 15:05:21 -0500 (Thu, 20 Nov 2025) EndedAt: 2025-11-20 15:05:50 -0500 (Thu, 20 Nov 2025) EllapsedTime: 29.4 seconds RetCode: 0 Status: OK