Package: hierinf Version: 1.29.0 Command: /home/biocbuild/bbs-3.23-bioc/R/bin/R CMD build --keep-empty-dirs --no-resave-data hierinf StartedAt: 2025-11-20 18:06:33 -0500 (Thu, 20 Nov 2025) EndedAt: 2025-11-20 18:07:53 -0500 (Thu, 20 Nov 2025) EllapsedTime: 80.1 seconds RetCode: 0 Status: OK PackageFile: hierinf_1.29.0.tar.gz PackageFileSize: 431.9 KiB