Package: hierGWAS Version: 1.39.0 Command: /home/biocbuild/bbs-3.22-bioc/R/bin/R CMD check --install=check:hierGWAS.install-out.txt --library=/home/biocbuild/bbs-3.22-bioc/R/site-library --timings hierGWAS_1.39.0.tar.gz StartedAt: 2025-10-07 00:44:30 -0400 (Tue, 07 Oct 2025) EndedAt: 2025-10-07 00:46:43 -0400 (Tue, 07 Oct 2025) EllapsedTime: 133.1 seconds RetCode: 0 Status: WARNINGS CheckDir: hierGWAS.Rcheck Warnings: 1