Package: hierGWAS Version: 1.41.0 Command: /home/biocbuild/bbs-3.23-bioc/R/bin/R CMD INSTALL hierGWAS StartedAt: 2025-11-20 15:05:16 -0500 (Thu, 20 Nov 2025) EndedAt: 2025-11-20 15:05:43 -0500 (Thu, 20 Nov 2025) EllapsedTime: 27.3 seconds RetCode: 0 Status: OK