Package: hierGWAS Version: 1.41.0 Command: /home/biocbuild/bbs-3.23-bioc/R/bin/R CMD build --keep-empty-dirs --no-resave-data hierGWAS StartedAt: 2025-11-20 18:06:14 -0500 (Thu, 20 Nov 2025) EndedAt: 2025-11-20 18:07:45 -0500 (Thu, 20 Nov 2025) EllapsedTime: 91.1 seconds RetCode: 0 Status: OK PackageFile: hierGWAS_1.41.0.tar.gz PackageFileSize: 567 KiB