Package: hicVennDiagram Version: 1.7.3 Command: /home/biocbuild/R/R/bin/R CMD build --keep-empty-dirs --no-resave-data hicVennDiagram StartedAt: 2025-10-10 01:20:28 -0000 (Fri, 10 Oct 2025) EndedAt: 2025-10-10 01:23:03 -0000 (Fri, 10 Oct 2025) EllapsedTime: 155.1 seconds RetCode: 0 Status: OK PackageFile: hicVennDiagram_1.7.3.tar.gz PackageFileSize: 991.2 KiB