Package: hicVennDiagram Version: 1.9.0 Command: /home/biocbuild/bbs-3.23-bioc/R/bin/R CMD build --keep-empty-dirs --no-resave-data hicVennDiagram StartedAt: 2025-11-04 18:00:32 -0500 (Tue, 04 Nov 2025) EndedAt: 2025-11-04 18:01:35 -0500 (Tue, 04 Nov 2025) EllapsedTime: 63.0 seconds RetCode: 1 Status: ERROR PackageFile: None PackageFileSize: NA