Package: hiAnnotator Version: 1.43.1 Command: /home/biocbuild/bbs-3.23-bioc/R/bin/R CMD INSTALL hiAnnotator StartedAt: 2025-10-22 21:22:34 -0000 (Wed, 22 Oct 2025) EndedAt: 2025-10-22 21:23:10 -0000 (Wed, 22 Oct 2025) EllapsedTime: 35.8 seconds RetCode: 0 Status: OK