Package: hiAnnotator Version: 1.43.1 Command: /Library/Frameworks/R.framework/Resources/bin/R CMD INSTALL hiAnnotator StartedAt: 2025-10-10 15:19:07 -0400 (Fri, 10 Oct 2025) EndedAt: 2025-10-10 15:19:21 -0400 (Fri, 10 Oct 2025) EllapsedTime: 14.5 seconds RetCode: 0 Status: OK